BEGIN:VCALENDAR
VERSION:2.0
PRODID:spatie/icalendar-generator
DESCRIPTION:Events from McFarland Farms Property Owners Association
X-WR-CALDESC:Events from McFarland Farms Property Owners Association
REFRESH-INTERVAL;VALUE=DURATION:PT1440M
X-PUBLISHED-TTL:PT1440M
BEGIN:VTIMEZONE
TZID:America/Indiana/Indianapolis
BEGIN:STANDARD
DTSTART:20251102T020000Z
TZOFFSETFROM:-0400
TZOFFSETTO:-0500
END:STANDARD
BEGIN:DAYLIGHT
DTSTART:20260308T020000Z
TZOFFSETFROM:-0500
TZOFFSETTO:-0400
END:DAYLIGHT
END:VTIMEZONE
BEGIN:VTIMEZONE
TZID:UTC
BEGIN:STANDARD
DTSTART:20250727T145329Z
TZOFFSETFROM:+0000
TZOFFSETTO:+0000
END:STANDARD
END:VTIMEZONE
BEGIN:VEVENT
UID:1636-22
DTSTAMP:20260423T145329Z
SUMMARY:Perry Township Tox Drop
LOCATION:Perry Township Government Center  4925 S. Shelby St.  Indianapolis
  IN
ORGANIZER;CN=MFPOA ADMIN:MAILTO:mfpoa@mcfarlandfarmspoa.com
DTSTART;TZID=America/Indiana/Indianapolis:20260411T090000
DTEND;TZID=America/Indiana/Indianapolis:20260411T140000
X-ALT-DESC;FMTTYPE=TEXT/HTML:Residents can dispose of unwanted and unused h
 ousehold hazardous waste as well as electronics on Saturdays during ToxDro
 p events throughout the city. ToxDrop services are only for residents of M
 arion County. Household hazardous waste (HHW) is hazardous waste generated
  by households that is ignitable\, toxic\, reactive\, corrosive\, or other
 wise poses a threat to human health&amp;hellip\;
CATEGORIES:City Services
URL;VALUE=URI:https://mcfarlandfarmspoa.com/mfpoa-community-calendar/?mc_id
 =1636&#038;vcal=1636
METHOD:PUBLISH
END:VEVENT
END:VCALENDAR